{"text_format":"1","workbook":"xlsx","n_sheets":2,"sheets":["Simple Data","Sheet1"],"not_rendered":{"charts":4,"images":0,"macros":1,"external_links":0,"defined_names":0,"comments":1,"pivot_tables":0},"unopened":[],"bounds":{"document_bytes":16777216,"sheet_cells":100000,"rows_first":2000,"rows_last":500,"rows_between":2000,"halvings":0,"cell_chars":16384,"cell_head_chars":4096},"cells_cut":0,"cells_raw":0,"read":"whole","date_system":"1900"}

{"sheet":"Simple Data","index":0,"n_rows":202,"n_cols":5,"rows_kept":202,"cut":false,"hidden":false,"merged":[]}
["Time","Low Light Test","Current LED","Measured Value","READING "]
["12:19:46",1,3,118]
["12:19:46",1,2,48]
["12:19:47",1,1,50]
["12:19:47",1,0,50]
["12:19:47",1,1,51]
["12:19:47",1,2,51]
["12:19:47",1,3,54]
["12:19:48",1,4,57]
["12:19:48",1,5,63]
["12:19:48",1,6,66]
["12:19:48",1,7,67]
["12:19:48",1,8,68]
["12:19:49",1,7,68]
["12:19:49",1,6,68]
["12:19:49",1,5,68]
["12:19:49",1,4,68]
["12:19:49",1,3,68]
["12:19:50",1,2,67]
["12:19:50",1,1,68]
["12:19:50",1,0,68]
["12:19:50",1,1,68]
["12:19:50",1,2,68]
["12:19:51",1,3,70]
["12:19:51",1,4,70]
["12:19:51",1,5,70]
["12:19:51",1,6,70]
["12:19:51",1,7,70]
["12:19:52",1,8,68]
["12:19:52",1,7,70]
["12:19:52",1,6,70]
["12:19:52",1,5,70]
["12:19:52",1,4,70]
["12:19:53",1,3,70]
["12:19:53",1,2,70]
["12:19:53",1,1,70]
["12:19:53",1,0,70]
["12:19:53",1,1,70]
["12:19:54",1,2,70]
["12:19:54",1,3,70]
["12:19:54",1,4,70]
["12:19:54",1,5,70]
["12:19:55",1,6,70]
["12:19:55",1,7,70]
["12:19:55",1,8,70]
["12:19:55",1,7,70]
["12:19:55",1,6,70]
["12:19:56",1,5,70]
["12:19:56",1,4,70]
["12:19:56",1,3,70]
["12:19:56",1,2,70]
["12:19:56",1,1,70]
["12:19:57",1,0,70]
["12:19:57",1,1,68]
["12:19:57",1,2,70]
["12:19:57",1,3,70]
["12:19:57",1,4,70]
["12:19:58",1,5,70]
["12:19:58",1,6,70]
["12:19:58",1,7,70]
["12:19:58",1,8,70]
["12:19:58",1,7,68]
["12:19:59",1,6,70]
["12:19:59",1,5,70]
["12:19:59",1,4,70]
["12:19:59",1,3,67]
["12:19:59",1,2,70]
["12:20:00",1,1,70]
["12:20:00",1,0,70]
["12:20:00",1,1,70]
["12:20:00",1,2,70]
["12:20:00",1,3,70]
["12:20:01",1,4,70]
["12:20:01",1,5,70]
["12:20:01",1,6,68]
["12:20:01",1,7,70]
["12:20:02",1,8,70]
["12:20:02",1,7,70]
["12:20:02",1,6,71]
["12:20:02",1,5,71]
["12:20:02",1,4,71]
["12:20:03",1,3,71]
["12:20:03",1,2,71]
["12:20:03",1,1,70]
["12:20:03",1,0,70]
["12:20:03",1,1,70]
["12:20:04",1,2,70]
["12:20:04",1,3,70]
["12:20:04",1,4,70]
["12:20:04",1,5,70]
["12:20:04",1,6,70]
["12:20:05",1,7,70]
["12:20:05",1,8,70]
["12:20:05",1,7,70]
["12:20:05",1,6,70]
["12:20:05",1,5,70]
["12:20:06",1,4,70]
["12:20:06",1,3,70]
["12:20:06",1,2,70]
["12:20:06",1,1,70]
["12:20:06",1,0,70]
["12:20:07",1,1,70]
["12:20:07",1,2,70]
["12:20:07",1,3,70]
["12:20:07",1,4,68]
["12:20:07",1,5,70]
["12:20:08",1,6,70]
["12:20:08",1,7,68]
["12:20:08",1,8,70]
["12:20:08",1,7,70]
["12:20:08",1,6,70]
["12:20:09",1,5,70]
["12:20:09",1,4,70]
["12:20:09",1,3,70]
["12:20:09",1,2,70]
["12:20:10",1,1,68]
["12:20:10",1,0,70]
["12:20:10",1,1,70]
["12:20:10",1,2,68]
["12:20:10",1,3,68]
["12:20:11",1,4,70]
["12:20:11",1,5,70]
["12:20:11",1,6,70]
["12:20:11",1,7,70]
["12:20:11",1,8,68]
["12:20:12",1,7,68]
["12:20:12",1,6,70]
["12:20:12",1,5,70]
["12:20:12",1,4,68]
["12:20:12",1,3,70]
["12:20:13",1,2,70]
["12:20:13",1,1,70]
["12:20:13",1,0,70]
["12:20:13",1,1,70]
["12:20:13",1,2,68]
["12:20:14",1,3,70]
["12:20:14",1,4,70]
["12:20:14",1,5,70]
["12:20:14",1,6,70]
["12:20:14",1,7,70]
["12:20:15",1,8,70]
["12:20:15",1,7,70]
["12:20:15",1,6,70]
["12:20:15",1,5,70]
["12:20:16",1,4,70]
["12:20:16",1,3,70]
["12:20:16",1,2,70]
["12:20:16",1,1,70]
["12:20:16",1,0,70]
["12:20:17",1,1,71]
["12:20:17",1,2,70]
["12:20:17",1,3,68]
["12:20:17",1,4,70]
["12:20:17",1,5,70]
["12:20:18",1,6,70]
["12:20:18",1,7,70]
["12:20:18",1,8,70]
["12:20:18",1,7,70]
["12:20:18",1,6,70]
["12:20:19",1,5,70]
["12:19:38",1,3,58]
["12:19:39",1,4,51]
["12:19:39",1,5,46]
["12:19:39",1,6,41]
["12:19:39",1,7,32]
["12:19:39",1,8,23]
["12:19:39",0,7,20]
["12:19:40",0,6,20]
["12:19:40",0,5,20]
["12:19:40",0,4,19]
["12:19:40",0,3,19]
["12:19:40",0,2,19]
["12:19:40",0,1,19]
["12:19:41",0,0,19]
["12:19:41",0,1,19]
["12:19:41",0,2,19]
["12:19:41",0,3,18]
["12:19:41",0,4,20]
["12:19:41",0,5,18]
["12:19:42",0,6,19]
["12:19:42",0,7,19]
["12:19:42",0,8,19]
["12:19:42",1,7,33]
["12:19:42",1,6,101]
["12:19:43",1,5,181]
["12:19:43",1,4,182]
["12:19:43",1,3,181]
["12:19:44",1,2,152]
["12:19:44",1,1,48]
["12:19:44",1,0,31]
["12:19:44",1,1,29]
["12:19:44",1,2,36]
["12:19:45",1,3,39]
["12:19:45",1,4,45]
["12:19:45",1,5,46]
["12:19:45",1,6,47]
["12:19:45",1,7,51]
["12:19:45",1,8,53]
["12:19:46",1,7,54]
["12:19:46",1,6,54]
["12:19:46",1,5,40]
["12:19:46",1,4,35]

{"sheet":"Sheet1","index":1,"n_rows":257,"n_cols":67,"rows_kept":257,"cut":false,"hidden":false,"merged":[]}
[null,"Linkit One - Live Data monitored in Excel and displayed using a Dashboard"]
[]
[]
[null,null,null,null,null,null,null,null,null,null,"Value","Degs",null,"x","y"]
[null,"Widget Main Title",null,"Dial 1 - Average",null,null,null,null,null,"Min",{"$f":"D11","v":0},0,null,{"$f":"50-(50*COS(RADIANS(L7)))","v":4.0792689022578585},{"$f":"50*SIN(RADIANS(L7))","v":19.780961944477266}]
[null,null,null,null,null,null,null,null,null,"Max",{"$f":"D13","v":500},180,null,{"$f":"50-(2*COS(RADIANS(L7+90)))","v":50.791238477779089},{"$f":"2*SIN(RADIANS(L7+90))","v":1.8368292439096858}]
[null,"Widget Units",null,null,null,null,null,null,null,"Actual",{"$f":"D9","v":64.734999999999999},{"$f":"((K7-K5)/(K6-K5))*180","v":23.304600000000001},null,{"$f":"50-(2*COS(RADIANS(L7-90)))","v":49.208761522220911},{"$f":"2*SIN(RADIANS(L7-90))","v":-1.8368292439096856}]
[null,null,null,null,null,null,null,null,null,"Scale1",{"$f":"((K6-K5)/5)+K5","v":100},null,null,{"$f":"N5","v":4.0792689022578585},{"$f":"O5","v":19.780961944477266}]
[null,"Actual Value",null,{"$f":"AVERAGE('Simple Data'!D2:D201)","v":64.734999999999999},null,null,null,null,null,"Scale2",{"$f":"((K6-K5)*2/5)+K5","v":200},null,null,50,0]
[null,null,null,null,null,null,null,null,null,"Scale3",{"$f":"((K6-K5)*3/5) + K5","v":300}]
[null,"Minimum Value",null,0,null,null,null,null,null,"Scale4",{"$f":"((K6-K5)*4/5) + K5","v":400}]
[]
[null,"Maximum Value",null,500]
[]
[]
[]
[]
[null,null,null,null,null,null,null,null,null,null,"Value","Degs",null,"x","y"]
[null,"Widget Main Title",null,"Dial 2 - Max",null,null,null,null,null,"Min",{"$f":"D25","v":0},0,null,{"$f":"50-(50*COS(RADIANS(L21)))","v":78.706099612996269},{"$f":"50*SIN(RADIANS(L21))","v":40.938488553056473}]
[null,null,null,null,null,null,null,null,null,"Max",{"$f":"D23+80","v":262},180,null,{"$f":"50-(2*COS(RADIANS(L21+90)))","v":51.637539542122262},{"$f":"2*SIN(RADIANS(L21+90))","v":-1.1482439845198504}]
[null,"Widget Units",null,null,null,null,null,null,null,"Actual",{"$f":"D23","v":182},{"$f":"((K21-K19)/(K20-K19))*180","v":125.03816793893131},null,{"$f":"50-(2*COS(RADIANS(L21-90)))","v":48.362460457877738},{"$f":"2*SIN(RADIANS(L21-90))","v":1.1482439845198507}]
[null,null,null,null,null,null,null,null,null,"Scale1",{"$f":"((K20-K19)/5)+K19","v":52.4},null,null,{"$f":"N19","v":78.706099612996269},{"$f":"O19","v":40.938488553056473}]
[null,"Actual Value",null,{"$f":"MAX('Simple Data'!D16:D215)","v":182},null,null,null,null,null,"Scale2",{"$f":"((K20-K19)*2/5)+K19","v":104.8},null,null,50,0]
[null,null,null,null,null,null,null,null,null,"Scale3",{"$f":"((K20-K19)*3/5) + K19","v":157.19999999999999}]
[null,"Minimum Value",null,0,null,null,null,null,null,"Scale4",{"$f":"((K20-K19)*4/5) + K19","v":209.6}]
[]
[null,"Maximum Value",null,700]
[]
[]
[]
[]
[null,null,null,null,null,null,null,null,null,null,"Value","Degs",null,"x","y"]
[null,"Widget Main Title",null,"Dial 3 - Min",null,null,null,null,null,"Min",-25,0,null,{"$f":"50-(50*COS(RADIANS(L35)))","v":8.7443250860852402},{"$f":"50*SIN(RADIANS(L35))","v":28.248350171246894}]
[null,null,null,null,null,null,null,null,null,"Max",200,180,null,{"$f":"50-(2*COS(RADIANS(L35+90)))","v":51.129934006849879},{"$f":"2*SIN(RADIANS(L35+90))","v":1.6502269965565903}]
[null,"Widget Units",null,null,null,null,null,null,null,"Actual",{"$f":"D37","v":18},{"$f":"((K35-K33)/(K34-K33))*180","v":34.4},null,{"$f":"50-(2*COS(RADIANS(L35-90)))","v":48.870065993150121},{"$f":"2*SIN(RADIANS(L35-90))","v":-1.6502269965565903}]
[null,null,null,null,null,null,null,null,null,"Scale1",{"$f":"((K34-K33)/5)+K33","v":20},null,null,{"$f":"N33","v":8.7443250860852402},{"$f":"O33","v":28.248350171246894}]
[null,"Actual Value",null,{"$f":"MIN('Simple Data'!D30:D229)","v":18},null,null,null,null,null,"Scale2",{"$f":"((K34-K33)*2/5)+K33","v":65},null,null,50,0]
[null,null,null,null,null,null,null,null,null,"Scale3",{"$f":"((K34-K33)*3/5) + K33","v":110}]
[null,"Minimum Value",null,0,null,null,null,null,null,"Scale4",{"$f":"((K34-K33)*4/5) + K33","v":155}]
[]
[null,"Maximum Value",null,100]
[]
[]
[null,null,"Chart 1 - Monitored value"]
[]
[]
[]
[]
[]
[null,null,"I) Trend Widget "]
[]
[null,null,"Date",1,{"$f":"D52+1","v":2},3,4,5,6,7,8,9,10,11,12,13,14,15,16,17,18,19,20,21,22,23,24,25,26,27,28,29,30,31,32,33,34,35,36,37,38,39,40,41,42,43,44,45,46,47,48,49,50,51,52,53,54,55,56,57,58,59,60,61,62,63,64]
[null,null,"Value",20,{"$f":"D53+(RAND()-0.3)","v":20.663028865712239},21.304704732206545,21.021873501504206,21.033977490075184,21.45516179027932,21.156178055015388,21.085686080632808,21.005663859999743,21.226429363403362,21.213523069606644,21.109354483698969,21.587284313464771,21.514849761071208,21.880359675742984,21.733577505103732,22.080093572192382,22.578079781499223,23.028832003182746,23.502888443060289,23.71785841885066,23.768069558137213,24.308705241619112,24.120664374515467,23.844236599908292,24.168810869534585,24.123934229473996,24.596467824276143,24.750456125598685,24.640842642608266,25.193809633918661,25.760314770797411,25.738201145381797,25.814374986621356,26.07572922680702,26.591644758347829,27.090470642217181,27.489159981145896,27.923985653292192,28.110612462425124,28.391713661784511,28.909992260727979,28.737188513648576,29.418130065772036,29.408772243243305,29.286657652017627,29.209725633485299,29.208029785363088,29.110136415827206,29.423646145354962,29.667152253726652,29.54630185509119,29.427194144474431,29.428197753893425,29.684904143584287,29.915722718453967,29.707377543698811,29.796480284330841,29.997657584104019,30.298421855945378,30.740588817991391,31.305911407184929,31.770251386002425,32.269022317804222]
[]
[]
[null,null,null,"X","y"]
[null,null,null,1,{"$f":"'Simple Data'!$D2","v":118}]
[null,null,null,2,{"$f":"'Simple Data'!$D3","v":48}]
[null,null,null,3,{"$f":"'Simple Data'!$D4","v":50}]
[null,null,null,4,{"$f":"'Simple Data'!$D5","v":50}]
[null,null,null,5,{"$f":"'Simple Data'!$D6","v":51}]
[null,null,null,6,{"$f":"'Simple Data'!$D7","v":51}]
[null,null,null,7,{"$f":"'Simple Data'!$D8","v":54}]
[null,null,null,8,{"$f":"'Simple Data'!$D9","v":57}]
[null,null,null,9,{"$f":"'Simple Data'!$D10","v":63}]
[null,null,null,10,{"$f":"'Simple Data'!$D11","v":66}]
[null,null,null,11,{"$f":"'Simple Data'!$D12","v":67}]
[null,null,null,12,{"$f":"'Simple Data'!$D13","v":68}]
[null,null,null,13,{"$f":"'Simple Data'!$D14","v":68}]
[null,null,null,14,{"$f":"'Simple Data'!$D15","v":68}]
[null,null,null,15,{"$f":"'Simple Data'!$D16","v":68}]
[null,null,null,16,{"$f":"'Simple Data'!$D17","v":68}]
[null,null,null,17,{"$f":"'Simple Data'!$D18","v":68}]
[null,null,null,18,{"$f":"'Simple Data'!$D19","v":67}]
[null,null,null,19,{"$f":"'Simple Data'!$D20","v":68}]
[null,null,null,20,{"$f":"'Simple Data'!$D21","v":68}]
[null,null,null,21,{"$f":"'Simple Data'!$D22","v":68}]
[null,null,null,22,{"$f":"'Simple Data'!$D23","v":68}]
[null,null,null,23,{"$f":"'Simple Data'!$D24","v":70}]
[null,null,null,24,{"$f":"'Simple Data'!$D25","v":70}]
[null,null,null,25,{"$f":"'Simple Data'!$D26","v":70}]
[null,null,null,26,{"$f":"'Simple Data'!$D27","v":70}]
[null,null,null,27,{"$f":"'Simple Data'!$D28","v":70}]
[null,null,null,28,{"$f":"'Simple Data'!$D29","v":68}]
[null,null,null,29,{"$f":"'Simple Data'!$D30","v":70}]
[null,null,null,30,{"$f":"'Simple Data'!$D31","v":70}]
[null,null,null,31,{"$f":"'Simple Data'!$D32","v":70}]
[null,null,null,32,{"$f":"'Simple Data'!$D33","v":70}]
[null,null,null,33,{"$f":"'Simple Data'!$D34","v":70}]
[null,null,null,34,{"$f":"'Simple Data'!$D35","v":70}]
[null,null,null,35,{"$f":"'Simple Data'!$D36","v":70}]
[null,null,null,36,{"$f":"'Simple Data'!$D37","v":70}]
[null,null,null,37,{"$f":"'Simple Data'!$D38","v":70}]
[null,null,null,38,{"$f":"'Simple Data'!$D39","v":70}]
[null,null,null,39,{"$f":"'Simple Data'!$D40","v":70}]
[null,null,null,40,{"$f":"'Simple Data'!$D41","v":70}]
[null,null,null,41,{"$f":"'Simple Data'!$D42","v":70}]
[null,null,null,42,{"$f":"'Simple Data'!$D43","v":70}]
[null,null,null,43,{"$f":"'Simple Data'!$D44","v":70}]
[null,null,null,44,{"$f":"'Simple Data'!$D45","v":70}]
[null,null,null,45,{"$f":"'Simple Data'!$D46","v":70}]
[null,null,null,46,{"$f":"'Simple Data'!$D47","v":70}]
[null,null,null,47,{"$f":"'Simple Data'!$D48","v":70}]
[null,null,null,48,{"$f":"'Simple Data'!$D49","v":70}]
[null,null,null,49,{"$f":"'Simple Data'!$D50","v":70}]
[null,null,null,50,{"$f":"'Simple Data'!$D51","v":70}]
[null,null,null,51,{"$f":"'Simple Data'!$D52","v":70}]
[null,null,null,52,{"$f":"'Simple Data'!$D53","v":70}]
[null,null,null,53,{"$f":"'Simple Data'!$D54","v":68}]
[null,null,null,54,{"$f":"'Simple Data'!$D55","v":70}]
[null,null,null,55,{"$f":"'Simple Data'!$D56","v":70}]
[null,null,null,56,{"$f":"'Simple Data'!$D57","v":70}]
[null,null,null,57,{"$f":"'Simple Data'!$D58","v":70}]
[null,null,null,58,{"$f":"'Simple Data'!$D59","v":70}]
[null,null,null,59,{"$f":"'Simple Data'!$D60","v":70}]
[null,null,null,60,{"$f":"'Simple Data'!$D61","v":70}]
[null,null,null,61,{"$f":"'Simple Data'!$D62","v":68}]
[null,null,null,62,{"$f":"'Simple Data'!$D63","v":70}]
[null,null,null,63,{"$f":"'Simple Data'!$D64","v":70}]
[null,null,null,64,{"$f":"'Simple Data'!$D65","v":70}]
[null,null,null,65,{"$f":"'Simple Data'!$D66","v":67}]
[null,null,null,66,{"$f":"'Simple Data'!$D67","v":70}]
[null,null,null,67,{"$f":"'Simple Data'!$D68","v":70}]
[null,null,null,68,{"$f":"'Simple Data'!$D69","v":70}]
[null,null,null,69,{"$f":"'Simple Data'!$D70","v":70}]
[null,null,null,70,{"$f":"'Simple Data'!$D71","v":70}]
[null,null,null,71,{"$f":"'Simple Data'!$D72","v":70}]
[null,null,null,72,{"$f":"'Simple Data'!$D73","v":70}]
[null,null,null,73,{"$f":"'Simple Data'!$D74","v":70}]
[null,null,null,74,{"$f":"'Simple Data'!$D75","v":68}]
[null,null,null,75,{"$f":"'Simple Data'!$D76","v":70}]
[null,null,null,76,{"$f":"'Simple Data'!$D77","v":70}]
[null,null,null,77,{"$f":"'Simple Data'!$D78","v":70}]
[null,null,null,78,{"$f":"'Simple Data'!$D79","v":71}]
[null,null,null,79,{"$f":"'Simple Data'!$D80","v":71}]
[null,null,null,80,{"$f":"'Simple Data'!$D81","v":71}]
[null,null,null,81,{"$f":"'Simple Data'!$D82","v":71}]
[null,null,null,82,{"$f":"'Simple Data'!$D83","v":71}]
[null,null,null,83,{"$f":"'Simple Data'!$D84","v":70}]
[null,null,null,84,{"$f":"'Simple Data'!$D85","v":70}]
[null,null,null,85,{"$f":"'Simple Data'!$D86","v":70}]
[null,null,null,86,{"$f":"'Simple Data'!$D87","v":70}]
[null,null,null,87,{"$f":"'Simple Data'!$D88","v":70}]
[null,null,null,88,{"$f":"'Simple Data'!$D89","v":70}]
[null,null,null,89,{"$f":"'Simple Data'!$D90","v":70}]
[null,null,null,90,{"$f":"'Simple Data'!$D91","v":70}]
[null,null,null,91,{"$f":"'Simple Data'!$D92","v":70}]
[null,null,null,92,{"$f":"'Simple Data'!$D93","v":70}]
[null,null,null,93,{"$f":"'Simple Data'!$D94","v":70}]
[null,null,null,94,{"$f":"'Simple Data'!$D95","v":70}]
[null,null,null,95,{"$f":"'Simple Data'!$D96","v":70}]
[null,null,null,96,{"$f":"'Simple Data'!$D97","v":70}]
[null,null,null,97,{"$f":"'Simple Data'!$D98","v":70}]
[null,null,null,98,{"$f":"'Simple Data'!$D99","v":70}]
[null,null,null,99,{"$f":"'Simple Data'!$D100","v":70}]
[null,null,null,100,{"$f":"'Simple Data'!$D101","v":70}]
[null,null,null,101,{"$f":"'Simple Data'!$D102","v":70}]
[null,null,null,102,{"$f":"'Simple Data'!$D103","v":70}]
[null,null,null,103,{"$f":"'Simple Data'!$D104","v":70}]
[null,null,null,104,{"$f":"'Simple Data'!$D105","v":68}]
[null,null,null,105,{"$f":"'Simple Data'!$D106","v":70}]
[null,null,null,106,{"$f":"'Simple Data'!$D107","v":70}]
[null,null,null,107,{"$f":"'Simple Data'!$D108","v":68}]
[null,null,null,108,{"$f":"'Simple Data'!$D109","v":70}]
[null,null,null,109,{"$f":"'Simple Data'!$D110","v":70}]
[null,null,null,110,{"$f":"'Simple Data'!$D111","v":70}]
[null,null,null,111,{"$f":"'Simple Data'!$D112","v":70}]
[null,null,null,112,{"$f":"'Simple Data'!$D113","v":70}]
[null,null,null,113,{"$f":"'Simple Data'!$D114","v":70}]
[null,null,null,114,{"$f":"'Simple Data'!$D115","v":70}]
[null,null,null,115,{"$f":"'Simple Data'!$D116","v":68}]
[null,null,null,116,{"$f":"'Simple Data'!$D117","v":70}]
[null,null,null,117,{"$f":"'Simple Data'!$D118","v":70}]
[null,null,null,118,{"$f":"'Simple Data'!$D119","v":68}]
[null,null,null,119,{"$f":"'Simple Data'!$D120","v":68}]
[null,null,null,120,{"$f":"'Simple Data'!$D121","v":70}]
[null,null,null,121,{"$f":"'Simple Data'!$D122","v":70}]
[null,null,null,122,{"$f":"'Simple Data'!$D123","v":70}]
[null,null,null,123,{"$f":"'Simple Data'!$D124","v":70}]
[null,null,null,124,{"$f":"'Simple Data'!$D125","v":68}]
[null,null,null,125,{"$f":"'Simple Data'!$D126","v":68}]
[null,null,null,126,{"$f":"'Simple Data'!$D127","v":70}]
[null,null,null,127,{"$f":"'Simple Data'!$D128","v":70}]
[null,null,null,128,{"$f":"'Simple Data'!$D129","v":68}]
[null,null,null,129,{"$f":"'Simple Data'!$D130","v":70}]
[null,null,null,130,{"$f":"'Simple Data'!$D131","v":70}]
[null,null,null,131,{"$f":"'Simple Data'!$D132","v":70}]
[null,null,null,132,{"$f":"'Simple Data'!$D133","v":70}]
[null,null,null,133,{"$f":"'Simple Data'!$D134","v":70}]
[null,null,null,134,{"$f":"'Simple Data'!$D135","v":68}]
[null,null,null,135,{"$f":"'Simple Data'!$D136","v":70}]
[null,null,null,136,{"$f":"'Simple Data'!$D137","v":70}]
[null,null,null,137,{"$f":"'Simple Data'!$D138","v":70}]
[null,null,null,138,{"$f":"'Simple Data'!$D139","v":70}]
[null,null,null,139,{"$f":"'Simple Data'!$D140","v":70}]
[null,null,null,140,{"$f":"'Simple Data'!$D141","v":70}]
[null,null,null,141,{"$f":"'Simple Data'!$D142","v":70}]
[null,null,null,142,{"$f":"'Simple Data'!$D143","v":70}]
[null,null,null,143,{"$f":"'Simple Data'!$D144","v":70}]
[null,null,null,144,{"$f":"'Simple Data'!$D145","v":70}]
[null,null,null,145,{"$f":"'Simple Data'!$D146","v":70}]
[null,null,null,146,{"$f":"'Simple Data'!$D147","v":70}]
[null,null,null,147,{"$f":"'Simple Data'!$D148","v":70}]
[null,null,null,148,{"$f":"'Simple Data'!$D149","v":70}]
[null,null,null,149,{"$f":"'Simple Data'!$D150","v":71}]
[null,null,null,150,{"$f":"'Simple Data'!$D151","v":70}]
[null,null,null,151,{"$f":"'Simple Data'!$D152","v":68}]
[null,null,null,152,{"$f":"'Simple Data'!$D153","v":70}]
[null,null,null,153,{"$f":"'Simple Data'!$D154","v":70}]
[null,null,null,154,{"$f":"'Simple Data'!$D155","v":70}]
[null,null,null,155,{"$f":"'Simple Data'!$D156","v":70}]
[null,null,null,156,{"$f":"'Simple Data'!$D157","v":70}]
[null,null,null,157,{"$f":"'Simple Data'!$D158","v":70}]
[null,null,null,158,{"$f":"'Simple Data'!$D159","v":70}]
[null,null,null,159,{"$f":"'Simple Data'!$D160","v":70}]
[null,null,null,160,{"$f":"'Simple Data'!$D161","v":58}]
[null,null,null,161,{"$f":"'Simple Data'!$D162","v":51}]
[null,null,null,162,{"$f":"'Simple Data'!$D163","v":46}]
[null,null,null,163,{"$f":"'Simple Data'!$D164","v":41}]
[null,null,null,164,{"$f":"'Simple Data'!$D165","v":32}]
[null,null,null,165,{"$f":"'Simple Data'!$D166","v":23}]
[null,null,null,166,{"$f":"'Simple Data'!$D167","v":20}]
[null,null,null,167,{"$f":"'Simple Data'!$D168","v":20}]
[null,null,null,168,{"$f":"'Simple Data'!$D169","v":20}]
[null,null,null,169,{"$f":"'Simple Data'!$D170","v":19}]
[null,null,null,170,{"$f":"'Simple Data'!$D171","v":19}]
[null,null,null,171,{"$f":"'Simple Data'!$D172","v":19}]
[null,null,null,172,{"$f":"'Simple Data'!$D173","v":19}]
[null,null,null,173,{"$f":"'Simple Data'!$D174","v":19}]
[null,null,null,174,{"$f":"'Simple Data'!$D175","v":19}]
[null,null,null,175,{"$f":"'Simple Data'!$D176","v":19}]
[null,null,null,176,{"$f":"'Simple Data'!$D177","v":18}]
[null,null,null,177,{"$f":"'Simple Data'!$D178","v":20}]
[null,null,null,178,{"$f":"'Simple Data'!$D179","v":18}]
[null,null,null,179,{"$f":"'Simple Data'!$D180","v":19}]
[null,null,null,180,{"$f":"'Simple Data'!$D181","v":19}]
[null,null,null,181,{"$f":"'Simple Data'!$D182","v":19}]
[null,null,null,182,{"$f":"'Simple Data'!$D183","v":33}]
[null,null,null,183,{"$f":"'Simple Data'!$D184","v":101}]
[null,null,null,184,{"$f":"'Simple Data'!$D185","v":181}]
[null,null,null,185,{"$f":"'Simple Data'!$D186","v":182}]
[null,null,null,186,{"$f":"'Simple Data'!$D187","v":181}]
[null,null,null,187,{"$f":"'Simple Data'!$D188","v":152}]
[null,null,null,188,{"$f":"'Simple Data'!$D189","v":48}]
[null,null,null,189,{"$f":"'Simple Data'!$D190","v":31}]
[null,null,null,190,{"$f":"'Simple Data'!$D191","v":29}]
[null,null,null,191,{"$f":"'Simple Data'!$D192","v":36}]
[null,null,null,192,{"$f":"'Simple Data'!$D193","v":39}]
[null,null,null,193,{"$f":"'Simple Data'!$D194","v":45}]
[null,null,null,194,{"$f":"'Simple Data'!$D195","v":46}]
[null,null,null,195,{"$f":"'Simple Data'!$D196","v":47}]
[null,null,null,196,{"$f":"'Simple Data'!$D197","v":51}]
[null,null,null,197,{"$f":"'Simple Data'!$D198","v":53}]
[null,null,null,198,{"$f":"'Simple Data'!$D199","v":54}]
[null,null,null,199,{"$f":"'Simple Data'!$D200","v":54}]
[null,null,null,200,{"$f":"'Simple Data'!$D201","v":40}]
[null,null,null,201,{"$f":"'Simple Data'!$D202","v":35}]